{
 "extent": {
  "ymin": 3892853.9613814205,
  "xmin": 5272157.4212242216,
  "ymax": 3943258.8760318905,
  "xmax": 5288802.1705584312,
  "spatialReference": {
   "latestWkid": 3089,
   "wkid": 102763
  }
 },
 "blockWidth": 2048,
 "mosaicOperator": "First",
 "serviceSourceType": "esriImageServiceSourceTypeMosaicDataset",
 "hasMultidimensions": false,
 "maxImageWidth": 15000,
 "maxRecordCount": 1000,
 "tileInfo": {
  "lods": [
   {
    "level": 0,
    "scale": 144444,
    "resolution": 125.38541666666666
   },
   {
    "level": 1,
    "scale": 72222,
    "resolution": 62.692708333333329
   },
   {
    "level": 2,
    "scale": 36111,
    "resolution": 31.346354166666664
   },
   {
    "level": 3,
    "scale": 18055,
    "resolution": 15.672743055555555
   },
   {
    "level": 4,
    "scale": 9027,
    "resolution": 7.8359375
   },
   {
    "level": 5,
    "scale": 4513,
    "resolution": 3.9175347222222219
   },
   {
    "level": 6,
    "scale": 2256,
    "resolution": 1.9583333333333333
   },
   {
    "level": 7,
    "scale": 1128,
    "resolution": 0.97916666666666663
   },
   {
    "level": 8,
    "scale": 500,
    "resolution": 0.43402777777777773
   },
   {
    "level": 9,
    "scale": 250,
    "resolution": 0.21701388888888887
   },
   {
    "level": 10,
    "scale": 125,
    "resolution": 0.10850694444444443
   }
  ],
  "origin": {
   "x": -117434800,
   "y": 153133100
  },
  "format": "MIXED",
  "compressionQuality": 95,
  "rows": 256,
  "dpi": 96,
  "spatialReference": {
   "latestWkid": 3089,
   "wkid": 102763
  },
  "cols": 256
 },
 "meanValues": [
  94.612722796822169,
  88.959087185729146,
  60.723647973893137,
  183.42164422739737
 ],
 "hasColormap": false,
 "compressionType": "None",
 "defaultCompressionQuality": 95,
 "maxValues": [
  255,
  255,
  255,
  255
 ],
 "hasHistograms": true,
 "datasetFormat": "AMD",
 "maxImageHeight": 4100,
 "sortField": "",
 "bandNames": [
  "Band_1",
  "Band_2",
  "Band_3",
  "Band_4"
 ],
 "spatialReference": {
  "latestWkid": 3089,
  "wkid": 102763
 },
 "fullExtent": {
  "ymin": 3892853.9613814205,
  "xmin": 5272157.4212242216,
  "ymax": 3943258.8760318905,
  "xmax": 5288802.1705584312,
  "spatialReference": {
   "latestWkid": 3089,
   "wkid": 102763
  }
 },
 "bandCount": 4,
 "rasterFunctionInfos": [
  {
   "help": "",
   "name": "None",
   "description": ""
  }
 ],
 "supportsStatistics": true,
 "sortableFields": "MinPS,MaxPS,LowPS,HighPS,CenterX,CenterY,ZOrder,Shape.STArea(),Shape.STLength()",
 "minValues": [
  0,
  0,
  0,
  0
 ],
 "allowRasterFunction": true,
 "allowComputeTiePoints": false,
 "serviceDataType": "esriImageServiceDataTypeGeneric",
 "supportsAdvancedQueries": true,
 "maxDownloadSizeLimit": 2048,
 "currentVersion": 12.1,
 "maxExportTilesCount": 100000,
 "sortValue": null,
 "objectIdField": "OBJECTID",
 "maxLOD": 10,
 "blockHeight": 256,
 "initialExtent": {
  "ymin": 3892853.9613814205,
  "xmin": 5272157.4212242216,
  "ymax": 3943258.8760318905,
  "xmax": 5288802.1705584312,
  "spatialReference": {
   "latestWkid": 3089,
   "wkid": 102763
  }
 },
 "pixelSizeX": 0.083333329999997985,
 "pixelSizeY": 0.083333330000000025,
 "defaultMosaicMethod": "Northwest",
 "name": "Imagery/IMAGE_KYSP",
 "allowedMosaicMethods": "NorthWest,Center,LockRaster,ByAttribute,Nadir,Viewpoint,Seamline,None",
 "maxDownloadImageCount": 20,
 "fields": [
  {
   "domain": null,
   "name": "OBJECTID",
   "alias": "OBJECTID",
   "type": "esriFieldTypeOID"
  },
  {
   "domain": null,
   "name": "Name",
   "length": 200,
   "alias": "Name",
   "type": "esriFieldTypeString"
  },
  {
   "domain": null,
   "name": "MinPS",
   "alias": "MinPS",
   "type": "esriFieldTypeDouble"
  },
  {
   "domain": null,
   "name": "MaxPS",
   "alias": "MaxPS",
   "type": "esriFieldTypeDouble"
  },
  {
   "domain": null,
   "name": "LowPS",
   "alias": "LowPS",
   "type": "esriFieldTypeDouble"
  },
  {
   "domain": null,
   "name": "HighPS",
   "alias": "HighPS",
   "type": "esriFieldTypeDouble"
  },
  {
   "domain": {
    "splitPolicy": "esriSPTDefaultValue",
    "name": "MosaicCatalogItemCategoryDomain",
    "description": "Catalog item categories.",
    "type": "codedValue",
    "codedValues": [
     {
      "code": 0,
      "name": "Unknown"
     },
     {
      "code": 1,
      "name": "Primary"
     },
     {
      "code": 2,
      "name": "Overview"
     },
     {
      "code": 3,
      "name": "Unprocessed Overview"
     },
     {
      "code": 4,
      "name": "Partial Overview"
     },
     {
      "code": 5,
      "name": "Inactive"
     },
     {
      "code": 253,
      "name": "Uploaded"
     },
     {
      "code": 254,
      "name": "Incomplete"
     },
     {
      "code": 255,
      "name": "Custom"
     }
    ],
    "mergePolicy": "esriMPTDefaultValue"
   },
   "name": "Category",
   "alias": "Category",
   "type": "esriFieldTypeInteger"
  },
  {
   "domain": null,
   "name": "Tag",
   "length": 100,
   "alias": "Tag",
   "type": "esriFieldTypeString"
  },
  {
   "domain": null,
   "name": "GroupName",
   "length": 100,
   "alias": "GroupName",
   "type": "esriFieldTypeString"
  },
  {
   "domain": null,
   "name": "ProductName",
   "length": 100,
   "alias": "ProductName",
   "type": "esriFieldTypeString"
  },
  {
   "domain": null,
   "name": "CenterX",
   "alias": "CenterX",
   "type": "esriFieldTypeDouble"
  },
  {
   "domain": null,
   "name": "CenterY",
   "alias": "CenterY",
   "type": "esriFieldTypeDouble"
  },
  {
   "domain": null,
   "name": "ZOrder",
   "alias": "ZOrder",
   "type": "esriFieldTypeInteger"
  },
  {
   "domain": null,
   "name": "Shape",
   "alias": "Shape",
   "type": "esriFieldTypeGeometry"
  },
  {
   "domain": null,
   "name": "Shape.STArea()",
   "alias": "Shape.STArea()",
   "type": "esriFieldTypeDouble"
  },
  {
   "domain": null,
   "name": "Shape.STLength()",
   "alias": "Shape.STLength()",
   "type": "esriFieldTypeDouble"
  }
 ],
 "allowAnalysis": true,
 "hasRasterAttributeTable": false,
 "useStandardizedQueries": true,
 "description": "",
 "pixelType": "U8",
 "meanPixelSize": 0.025400049784099269,
 "exportTilesAllowed": true,
 "editFieldsInfo": null,
 "rasterTypeInfos": [
  {
   "help": "",
   "name": "Raster Dataset",
   "description": "Supports all ArcGIS Raster Datasets"
  }
 ],
 "defaultResamplingMethod": "Bilinear",
 "itemAccess": false,
 "minScale": 144444,
 "cacheType": "Map",
 "serviceProperties": "NorthWest<\/MosaicMethod>First<\/MosaicOperator>true<\/SortAscending><\/LockImageID>Name<\/TileOrderField>0<\/TileOrderBase>600.000000<\/AvgImageSpacingX>300.000000<\/AvgImageSpacingY>0.0<\/ViewPointX>0.0<\/ViewPointY>0.0<\/ViewPointDefShiftX>0.0<\/ViewPointDefShiftY>JPEG<\/CompressionMethod>95<\/CompressionQuality>0.010000<\/CompressionTolerance>Bilinear<\/SamplingMethod><\/ImageServiceProperties><\/ImageServer>",
 "advancedQueryCapabilities": {
  "supportsStatistics": true,
  "supportsSqlExpression": true,
  "supportsOrderBy": true,
  "useStandardizedQueries": true,
  "supportsPagination": true,
  "supportsDistinct": true
 },
 "serviceItemId": "4305ae05cc244d7599176bef76709bbe",
 "capabilities": "Image,Metadata,Catalog,Mensuration",
 "maxScale": 125,
 "singleFusedMapCache": true,
 "stdvValues": [
  70.133487661375938,
  66.733905386844143,
  54.589090030368247,
  114.58193447057532
 ],
 "allowedFields": "Name,MinPS,MaxPS,LowPS,HighPS,Tag,GroupName,ProductName,CenterX,CenterY,ZOrder,Shape.STArea(),Shape.STLength()",
 "minPixelSize": 0.10850694444444443,
 "storageInfo": {
  "storageFormat": "esriMapCacheStorageModeCompactV2",
  "packetSize": 128
 },
 "sortAscending": true,
 "maxMosaicImageCount": 20,
 "inspectionCapabilities": "",
 "minLOD": 0,
 "maxPixelSize": 125.38541666666667,
 "allowedCompressions": "JPEG,None,LZ77,LERC",
 "uncompressedSize": 483250888332,
 "serviceDescription": "Imagery/IMAGE_KYSP",
 "allowCopy": true,
 "copyrightText": "",
 "mensurationCapabilities": "Basic",
 "ownershipBasedAccessControlForRasters": null
}
