{
 "extent": {
  "ymin": 3893111.534221977,
  "xmin": 5272374.8308943808,
  "ymax": 3943068.034221977,
  "xmax": 5288125.5808943808,
  "spatialReference": {
   "latestWkid": 3089,
   "wkid": 102763
  }
 },
 "blockWidth": 2048,
 "mosaicOperator": "First",
 "serviceSourceType": "esriImageServiceSourceTypeMosaicDataset",
 "hasMultidimensions": false,
 "maxImageWidth": 15000,
 "maxRecordCount": 1000,
 "tileInfo": {
  "lods": [
   {
    "level": 0,
    "scale": 144444,
    "resolution": 125.38541666666666
   },
   {
    "level": 1,
    "scale": 72222,
    "resolution": 62.692708333333329
   },
   {
    "level": 2,
    "scale": 36111,
    "resolution": 31.346354166666664
   },
   {
    "level": 3,
    "scale": 18055,
    "resolution": 15.672743055555555
   },
   {
    "level": 4,
    "scale": 9027,
    "resolution": 7.8359375
   },
   {
    "level": 5,
    "scale": 4513,
    "resolution": 3.9175347222222219
   },
   {
    "level": 6,
    "scale": 2256,
    "resolution": 1.9583333333333333
   },
   {
    "level": 7,
    "scale": 1128,
    "resolution": 0.97916666666666663
   },
   {
    "level": 8,
    "scale": 500,
    "resolution": 0.43402777777777773
   },
   {
    "level": 9,
    "scale": 250,
    "resolution": 0.21701388888888887
   },
   {
    "level": 10,
    "scale": 125,
    "resolution": 0.10850694444444443
   }
  ],
  "origin": {
   "x": -117434800,
   "y": 153133100
  },
  "format": "MIXED",
  "compressionQuality": 85,
  "rows": 256,
  "dpi": 96,
  "spatialReference": {
   "latestWkid": 3089,
   "wkid": 102763
  },
  "cols": 256
 },
 "meanValues": [
  91.419323084878499,
  84.213454427310211,
  76.108368313915648
 ],
 "hasColormap": false,
 "compressionType": "None",
 "defaultCompressionQuality": 85,
 "maxValues": [
  255,
  255,
  255
 ],
 "hasHistograms": true,
 "datasetFormat": "AMD",
 "maxImageHeight": 4100,
 "sortField": "",
 "bandNames": [
  "Red",
  "Green",
  "Blue"
 ],
 "spatialReference": {
  "latestWkid": 3089,
  "wkid": 102763
 },
 "fullExtent": {
  "ymin": 3893111.534221977,
  "xmin": 5272374.8308943808,
  "ymax": 3943068.034221977,
  "xmax": 5288125.5808943808,
  "spatialReference": {
   "latestWkid": 3089,
   "wkid": 102763
  }
 },
 "bandCount": 3,
 "rasterFunctionInfos": [
  {
   "help": "",
   "name": "None",
   "description": ""
  }
 ],
 "supportsStatistics": true,
 "sortableFields": "MinPS,MaxPS,LowPS,HighPS,CenterX,CenterY,ZOrder,Shape.STArea(),Shape.STLength()",
 "minValues": [
  0,
  0,
  0
 ],
 "allowRasterFunction": true,
 "allowComputeTiePoints": false,
 "serviceDataType": "esriImageServiceDataTypeRGB",
 "supportsAdvancedQueries": true,
 "maxDownloadSizeLimit": 2048,
 "currentVersion": 12.1,
 "maxExportTilesCount": 100000,
 "sortValue": null,
 "objectIdField": "OBJECTID",
 "maxLOD": 10,
 "blockHeight": 256,
 "initialExtent": {
  "ymin": 3893111.534221977,
  "xmin": 5272374.8308943808,
  "ymax": 3943068.034221977,
  "xmax": 5288125.5808943808,
  "spatialReference": {
   "latestWkid": 3089,
   "wkid": 102763
  }
 },
 "pixelSizeX": 0.25,
 "pixelSizeY": 0.25,
 "defaultMosaicMethod": "Northwest",
 "name": "Imagery/IMAGE_3IN_KYSP",
 "allowedMosaicMethods": "NorthWest,Center,LockRaster,ByAttribute,Nadir,Viewpoint,Seamline,None",
 "maxDownloadImageCount": 20,
 "fields": [
  {
   "domain": null,
   "name": "OBJECTID",
   "alias": "OBJECTID",
   "type": "esriFieldTypeOID"
  },
  {
   "domain": null,
   "name": "Name",
   "length": 200,
   "alias": "Name",
   "type": "esriFieldTypeString"
  },
  {
   "domain": null,
   "name": "MinPS",
   "alias": "MinPS",
   "type": "esriFieldTypeDouble"
  },
  {
   "domain": null,
   "name": "MaxPS",
   "alias": "MaxPS",
   "type": "esriFieldTypeDouble"
  },
  {
   "domain": null,
   "name": "LowPS",
   "alias": "LowPS",
   "type": "esriFieldTypeDouble"
  },
  {
   "domain": null,
   "name": "HighPS",
   "alias": "HighPS",
   "type": "esriFieldTypeDouble"
  },
  {
   "domain": {
    "splitPolicy": "esriSPTDefaultValue",
    "name": "MosaicCatalogItemCategoryDomain",
    "description": "Catalog item categories.",
    "type": "codedValue",
    "codedValues": [
     {
      "code": 0,
      "name": "Unknown"
     },
     {
      "code": 1,
      "name": "Primary"
     },
     {
      "code": 2,
      "name": "Overview"
     },
     {
      "code": 3,
      "name": "Unprocessed Overview"
     },
     {
      "code": 4,
      "name": "Partial Overview"
     },
     {
      "code": 5,
      "name": "Inactive"
     },
     {
      "code": 253,
      "name": "Uploaded"
     },
     {
      "code": 254,
      "name": "Incomplete"
     },
     {
      "code": 255,
      "name": "Custom"
     }
    ],
    "mergePolicy": "esriMPTDefaultValue"
   },
   "name": "Category",
   "alias": "Category",
   "type": "esriFieldTypeInteger"
  },
  {
   "domain": null,
   "name": "Tag",
   "length": 100,
   "alias": "Tag",
   "type": "esriFieldTypeString"
  },
  {
   "domain": null,
   "name": "GroupName",
   "length": 100,
   "alias": "GroupName",
   "type": "esriFieldTypeString"
  },
  {
   "domain": null,
   "name": "ProductName",
   "length": 100,
   "alias": "ProductName",
   "type": "esriFieldTypeString"
  },
  {
   "domain": null,
   "name": "CenterX",
   "alias": "CenterX",
   "type": "esriFieldTypeDouble"
  },
  {
   "domain": null,
   "name": "CenterY",
   "alias": "CenterY",
   "type": "esriFieldTypeDouble"
  },
  {
   "domain": null,
   "name": "ZOrder",
   "alias": "ZOrder",
   "type": "esriFieldTypeInteger"
  },
  {
   "domain": null,
   "name": "Shape",
   "alias": "Shape",
   "type": "esriFieldTypeGeometry"
  },
  {
   "domain": null,
   "name": "Shape.STArea()",
   "alias": "Shape.STArea()",
   "type": "esriFieldTypeDouble"
  },
  {
   "domain": null,
   "name": "Shape.STLength()",
   "alias": "Shape.STLength()",
   "type": "esriFieldTypeDouble"
  }
 ],
 "allowAnalysis": true,
 "hasRasterAttributeTable": false,
 "useStandardizedQueries": true,
 "description": "",
 "pixelType": "U8",
 "meanPixelSize": 0.07620015240030481,
 "exportTilesAllowed": true,
 "editFieldsInfo": null,
 "rasterTypeInfos": [
  {
   "help": "",
   "name": "Raster Dataset",
   "description": "Supports all ArcGIS Raster Datasets"
  }
 ],
 "defaultResamplingMethod": "Bilinear",
 "itemAccess": false,
 "minScale": 144444,
 "cacheType": "Map",
 "serviceProperties": "NorthWest<\/MosaicMethod>First<\/MosaicOperator>true<\/SortAscending><\/LockImageID>Name<\/TileOrderField>0<\/TileOrderBase>600.000000<\/AvgImageSpacingX>300.000000<\/AvgImageSpacingY>0.0<\/ViewPointX>0.0<\/ViewPointY>0.0<\/ViewPointDefShiftX>0.0<\/ViewPointDefShiftY>JPEG<\/CompressionMethod>85<\/CompressionQuality>0.010000<\/CompressionTolerance>Bilinear<\/SamplingMethod><\/ImageServiceProperties><\/ImageServer>",
 "advancedQueryCapabilities": {
  "supportsStatistics": true,
  "supportsSqlExpression": true,
  "supportsOrderBy": true,
  "useStandardizedQueries": true,
  "supportsPagination": true,
  "supportsDistinct": true
 },
 "serviceItemId": "ca24a1ffabb0428aab76329f444afcbe",
 "capabilities": "Image,Metadata,Catalog,Mensuration",
 "maxScale": 125,
 "singleFusedMapCache": true,
 "stdvValues": [
  72.808062211985444,
  67.094832380741167,
  58.089081361055889
 ],
 "allowedFields": "Name,MinPS,MaxPS,LowPS,HighPS,Tag,GroupName,ProductName,CenterX,CenterY,ZOrder,Shape.STArea(),Shape.STLength()",
 "minPixelSize": 0.10850694444444443,
 "storageInfo": {
  "storageFormat": "esriMapCacheStorageModeCompactV2",
  "packetSize": 128
 },
 "sortAscending": true,
 "maxMosaicImageCount": 20,
 "inspectionCapabilities": "",
 "minLOD": 0,
 "maxPixelSize": 125.38541666666667,
 "allowedCompressions": "JPEG,LZ77,None,LERC",
 "uncompressedSize": 37768912434,
 "serviceDescription": "Imagery/IMAGE_3IN_KYSP",
 "allowCopy": true,
 "copyrightText": "",
 "mensurationCapabilities": "Basic",
 "ownershipBasedAccessControlForRasters": null
}
