<?xml version="1.0" encoding="UTF-8" standalone="no"?>
<metadata xml:lang="en">
<Esri>
<CreaDate>20210222</CreaDate>
<CreaTime>08300000</CreaTime>
<ArcGISFormat>1.0</ArcGISFormat>
<SyncOnce>FALSE</SyncOnce>
<DataProperties>
<lineage>
<Process Date="20190204" Time="152107" ToolSource="c:\program files (x86)\arcgis\desktop10.6\ArcToolbox\Toolboxes\Data Management Tools.tbx\CreateMosaicDataset">CreateMosaicDataset "Database Connections\ugis_enterprise_imagery_WinAuth.sde" KY_2011_UK_Spring_3IN "PROJCS['NAD_1983_StatePlane_Kentucky_FIPS_1600_Feet',GEOGCS['GCS_North_American_1983',DATUM['D_North_American_1983',SPHEROID['GRS_1980',6378137.0,298.257222101]],PRIMEM['Greenwich',0.0],UNIT['Degree',0.0174532925199433]],PROJECTION['Lambert_Conformal_Conic'],PARAMETER['False_Easting',4921250.0],PARAMETER['False_Northing',3280833.333333333],PARAMETER['Central_Meridian',-85.75],PARAMETER['Standard_Parallel_1',37.08333333333334],PARAMETER['Standard_Parallel_2',38.66666666666666],PARAMETER['Latitude_Of_Origin',36.33333333333334],UNIT['Foot_US',0.3048006096012192]];-117434800 -91579000 3048.00609601219;-100000 10000;-100000 10000;3.28083333333333E-03;0.001;0.001;IsHighPrecision" 3 8_BIT_UNSIGNED NONE #</Process>
<Process Date="20190204" Time="152903" ToolSource="c:\program files (x86)\arcgis\desktop10.6\ArcToolbox\Toolboxes\Data Management Tools.tbx\AnalyzeMosaicDataset">AnalyzeMosaicDataset "Database Connections\ugis_enterprise_imagery_WinAuth.sde\UGIS_ENTERPRISE_IMAGERY.DBO.KY_2011_UK_Spring_3IN" # FOOTPRINT;FUNCTION;RASTER;PATHS</Process>
<Process Date="20190204" Time="161717" ToolSource="c:\program files (x86)\arcgis\desktop10.6\ArcToolbox\Toolboxes\Data Management Tools.tbx\BuildMosaicDatasetItemCache">BuildMosaicDatasetItemCache "Database Connections\ugis_enterprise_imagery_WinAuth.sde\UGIS_ENTERPRISE_IMAGERY.DBO.KY_2011_UK_Spring_3IN" # DEFINE_CACHE GENERATE_CACHE \\ugisdb.ad.uky.edu\arcgis-imagery\Imagery\Orthos\2011_Spring\ItemCache LOSSLESS 80 200000 200000 PIXEL_SIZE_FACTOR 1</Process>
<Process Date="20190204" Time="164717" ToolSource="c:\program files (x86)\arcgis\desktop10.6\ArcToolbox\Toolboxes\Data Management Tools.tbx\BuildMosaicDatasetItemCache">BuildMosaicDatasetItemCache "Database Connections\ugis_enterprise_imagery_WinAuth.sde\UGIS_ENTERPRISE_IMAGERY.DBO.KY_2011_UK_Spring_3IN" # DEFINE_CACHE GENERATE_CACHE \\ugisdb.ad.uky.edu\arcgis-imagery\Imagery\Orthos\2011_Spring\ItemCache LOSSLESS 80 200000 200000 PIXEL_SIZE_FACTOR 1</Process>
<Process Date="20190204" Time="164937" ToolSource="c:\program files (x86)\arcgis\desktop10.6\ArcToolbox\Toolboxes\Data Management Tools.tbx\AnalyzeMosaicDataset">AnalyzeMosaicDataset "Database Connections\ugis_enterprise_imagery_WinAuth.sde\UGIS_ENTERPRISE_IMAGERY.DBO.KY_2011_UK_Spring_3IN" # FOOTPRINT;FUNCTION;RASTER;PATHS</Process>
<Process Date="20190211" Time="144247" ToolSource="c:\program files (x86)\arcgis\desktop10.6\ArcToolbox\Toolboxes\Data Management Tools.tbx\RemoveRastersFromMosaicDataset">RemoveRastersFromMosaicDataset "Database Connections\ugis_enterprise_imagery_WinAuth.sde\UGIS_ENTERPRISE_IMAGERY.DBO.KY_2011_UK_Spring_3IN" "OBJECTID &gt; 0" UPDATE_BOUNDARY MARK_OVERVIEW_ITEMS DELETE_OVERVIEW_IMAGES DELETE_ITEM_CACHE REMOVE_MOSAICDATASET_ITEMS UPDATE_CELL_SIZES</Process>
<Process Date="20190211" Time="144950" ToolSource="c:\program files (x86)\arcgis\desktop10.6\ArcToolbox\Toolboxes\Data Management Tools.tbx\AnalyzeMosaicDataset">AnalyzeMosaicDataset "Database Connections\ugis_enterprise_imagery_WinAuth.sde\UGIS_ENTERPRISE_IMAGERY.DBO.KY_2011_UK_Spring_3IN" "OBJECTID &gt; 0" FOOTPRINT;FUNCTION;RASTER;PATHS</Process>
<Process Date="20210222" Time="083404" ToolSource="c:\program files (x86)\arcgis\desktop10.6\ArcToolbox\Toolboxes\Data Management Tools.tbx\RepairMosaicDatasetPaths">RepairMosaicDatasetPaths "Database Connections\ugisdb_imagery_WinAuth.sde\UGIS_IMAGERY.DBO.KY_2011_UK_Spring_3IN" "# \\ugisdb.ad.uky.edu\arcgis-imagery\Imagery\Orthos\2011_Spring \\ugisfiles.ad.uky.edu\arcgis-imagery\Imagery\Orthos\2011_Spring" #</Process>
<Process Date="20210222" Time="084124" ToolSource="c:\program files (x86)\arcgis\desktop10.6\ArcToolbox\Toolboxes\Data Management Tools.tbx\RepairMosaicDatasetPaths">RepairMosaicDatasetPaths "Database Connections\ugisdb_imagery_WinAuth.sde\UGIS_IMAGERY.DBO.KY_2011_UK_Spring_3IN" "# C:\Users\bmzi222\AppData\Roaming\ESRI\Desktop10.6\ArcCatalog\ugis_enterprise_imagery_WinAuth.sde\UGIS_ENTERPRISE_IMAGERY.DBO.AMD_KY_2011_UK_Spring_3IN_OVR C:\Users\bmzi222_sad\AppData\Roaming\ESRI\Desktop10.6\ArcCatalog\ugisdb_imagery_WinAuth.sde\UGIS_IMAGERY.DBO.AMD_KY_2011_UK_Spring_3IN_OVR;# # #;# # #" #</Process>
<Process Date="20210222" Time="130303" ToolSource="c:\program files (x86)\arcgis\desktop10.6\ArcToolbox\Toolboxes\Data Management Tools.tbx\ChangePrivileges">ChangePrivileges 'Database Connections\ugisdb_imagery_WinAuth.sde\UGIS_IMAGERY.DBO.KY_2011_UK_Spring_3IN';'Database Connections\ugisdb_imagery_WinAuth.sde\UGIS_IMAGERY.DBO.KY_2012_UK_Winter_3IN';'Database Connections\ugisdb_imagery_WinAuth.sde\UGIS_IMAGERY.DBO.KY_2014_UK_Spring_3IN';'Database Connections\ugisdb_imagery_WinAuth.sde\UGIS_IMAGERY.DBO.KY_2015_UK_Spring_3IN';'Database Connections\ugisdb_imagery_WinAuth.sde\UGIS_IMAGERY.DBO.KY_2016_FAYETTE_Spring_3IN';'Database Connections\ugisdb_imagery_WinAuth.sde\UGIS_IMAGERY.DBO.KY_2017_FAYETTE_Spring_3IN';'Database Connections\ugisdb_imagery_WinAuth.sde\UGIS_IMAGERY.DBO.KY_2017_UK_Spring_3IN_IR';'Database Connections\ugisdb_imagery_WinAuth.sde\UGIS_IMAGERY.DBO.KY_2018_FAYETTE_Spring_3IN';'Database Connections\ugisdb_imagery_WinAuth.sde\UGIS_IMAGERY.DBO.KY_2018_UK_Fall_4IN_NonAccuPLUS';'Database Connections\ugisdb_imagery_WinAuth.sde\UGIS_IMAGERY.DBO.KY_2019_FAYETTE_Spring_3IN';'Database Connections\ugisdb_imagery_WinAuth.sde\UGIS_IMAGERY.DBO.KY_2020_FAYETTE_Spring_3IN' db_ugisservicereader GRANT #</Process>
<Process Date="20210309" Time="165506" ToolSource="c:\program files (x86)\arcgis\desktop10.6\ArcToolbox\Toolboxes\Data Management Tools.tbx\ChangePrivileges">ChangePrivileges 'Database Connections\ugisdb_imagery_WinAuth.sde\UGIS_IMAGERY.DBO.KY_2011_UK_Spring_3IN';'Database Connections\ugisdb_imagery_WinAuth.sde\UGIS_IMAGERY.DBO.KY_2012_UK_Winter_3IN';'Database Connections\ugisdb_imagery_WinAuth.sde\UGIS_IMAGERY.DBO.KY_2014_UK_Spring_3IN';'Database Connections\ugisdb_imagery_WinAuth.sde\UGIS_IMAGERY.DBO.KY_2015_UK_Spring_3IN';'Database Connections\ugisdb_imagery_WinAuth.sde\UGIS_IMAGERY.DBO.KY_2016_FAYETTE_Spring_3IN';'Database Connections\ugisdb_imagery_WinAuth.sde\UGIS_IMAGERY.DBO.KY_2017_FAYETTE_Spring_3IN';'Database Connections\ugisdb_imagery_WinAuth.sde\UGIS_IMAGERY.DBO.KY_2017_UK_Spring_3IN_IR';'Database Connections\ugisdb_imagery_WinAuth.sde\UGIS_IMAGERY.DBO.KY_2018_FAYETTE_Spring_3IN';'Database Connections\ugisdb_imagery_WinAuth.sde\UGIS_IMAGERY.DBO.KY_2018_UK_Fall_4IN_NonAccuPLUS';'Database Connections\ugisdb_imagery_WinAuth.sde\UGIS_IMAGERY.DBO.KY_2019_FAYETTE_Spring_3IN';'Database Connections\ugisdb_imagery_WinAuth.sde\UGIS_IMAGERY.DBO.KY_2020_FAYETTE_Spring_3IN' db_ugisreader GRANT #</Process>
</lineage>
<itemProps>
<itemLocation>
<linkage Sync="TRUE">Server=ugissql2; Service=sde:sqlserver:ugissql2; Database=UGIS_IMAGERY; Version=dbo.DEFAULT</linkage>
<protocol Sync="TRUE">ArcSDE Connection</protocol>
</itemLocation>
<itemName Sync="TRUE">UGIS_IMAGERY.DBO.KY_2011_UK_Spring_3IN</itemName>
<nativeExtBox>
<westBL Sync="TRUE">5274556.499996</westBL>
<eastBL Sync="TRUE">5285295.999996</eastBL>
<southBL Sync="TRUE">3892319.500000</southBL>
<northBL Sync="TRUE">3907485.500000</northBL>
<exTypeCode Sync="TRUE">1</exTypeCode>
</nativeExtBox>
</itemProps>
<coordRef>
<type Sync="TRUE">Projected</type>
<geogcsn Sync="TRUE">GCS_North_American_1983</geogcsn>
<csUnits Sync="TRUE">Linear Unit: Foot_US (0.304801)</csUnits>
<projcsn Sync="TRUE">NAD_1983_StatePlane_Kentucky_FIPS_1600_Feet</projcsn>
<peXml Sync="TRUE">&lt;ProjectedCoordinateSystem xsi:type='typens:ProjectedCoordinateSystem' xmlns:xsi='http://www.w3.org/2001/XMLSchema-instance' xmlns:xs='http://www.w3.org/2001/XMLSchema' xmlns:typens='http://www.esri.com/schemas/ArcGIS/10.6'&gt;&lt;WKT&gt;PROJCS[&amp;quot;NAD_1983_StatePlane_Kentucky_FIPS_1600_Feet&amp;quot;,GEOGCS[&amp;quot;GCS_North_American_1983&amp;quot;,DATUM[&amp;quot;D_North_American_1983&amp;quot;,SPHEROID[&amp;quot;GRS_1980&amp;quot;,6378137.0,298.257222101]],PRIMEM[&amp;quot;Greenwich&amp;quot;,0.0],UNIT[&amp;quot;Degree&amp;quot;,0.0174532925199433]],PROJECTION[&amp;quot;Lambert_Conformal_Conic&amp;quot;],PARAMETER[&amp;quot;False_Easting&amp;quot;,4921250.0],PARAMETER[&amp;quot;False_Northing&amp;quot;,3280833.333333333],PARAMETER[&amp;quot;Central_Meridian&amp;quot;,-85.75],PARAMETER[&amp;quot;Standard_Parallel_1&amp;quot;,37.08333333333334],PARAMETER[&amp;quot;Standard_Parallel_2&amp;quot;,38.66666666666666],PARAMETER[&amp;quot;Latitude_Of_Origin&amp;quot;,36.33333333333334],UNIT[&amp;quot;Foot_US&amp;quot;,0.3048006096012192],AUTHORITY[&amp;quot;EPSG&amp;quot;,3089]]&lt;/WKT&gt;&lt;XOrigin&gt;-117434800&lt;/XOrigin&gt;&lt;YOrigin&gt;-91579000&lt;/YOrigin&gt;&lt;XYScale&gt;36807330.96050825&lt;/XYScale&gt;&lt;ZOrigin&gt;-100000&lt;/ZOrigin&gt;&lt;ZScale&gt;10000&lt;/ZScale&gt;&lt;MOrigin&gt;-100000&lt;/MOrigin&gt;&lt;MScale&gt;10000&lt;/MScale&gt;&lt;XYTolerance&gt;0.0032808333333333331&lt;/XYTolerance&gt;&lt;ZTolerance&gt;0.001&lt;/ZTolerance&gt;&lt;MTolerance&gt;0.001&lt;/MTolerance&gt;&lt;HighPrecision&gt;true&lt;/HighPrecision&gt;&lt;WKID&gt;102763&lt;/WKID&gt;&lt;LatestWKID&gt;3089&lt;/LatestWKID&gt;&lt;/ProjectedCoordinateSystem&gt;</peXml>
</coordRef>
<RasterProperties>
<General>
<PixelDepth Sync="TRUE">8</PixelDepth>
<HasColormap Sync="TRUE">FALSE</HasColormap>
<CompressionType Sync="TRUE">None</CompressionType>
<NumBands Sync="TRUE">3</NumBands>
<Format Sync="TRUE">AMD</Format>
<HasPyramids Sync="TRUE">TRUE</HasPyramids>
<SourceType Sync="TRUE">continuous</SourceType>
<PixelType Sync="TRUE">unsigned integer</PixelType>
<NoDataValue Sync="TRUE"/>
</General>
<Properties>
<MaxImageHeight Sync="TRUE">4100</MaxImageHeight>
<MaxImageWidth Sync="TRUE">15000</MaxImageWidth>
<MaxRecordCount Sync="TRUE">1000</MaxRecordCount>
<MaxDownloadImageCount Sync="TRUE">20</MaxDownloadImageCount>
<MaxDownloadSizeLimit Sync="TRUE">2048</MaxDownloadSizeLimit>
<MaxMosaicImageCount Sync="TRUE">20</MaxMosaicImageCount>
<DefaultCompressionQuality Sync="TRUE">75</DefaultCompressionQuality>
<DefaultCompressionTolerance Sync="TRUE">0.01</DefaultCompressionTolerance>
<BlendWidth Sync="TRUE">10</BlendWidth>
<ViewpointSpacingX Sync="TRUE">600</ViewpointSpacingX>
<ViewpointSpacingY Sync="TRUE">300</ViewpointSpacingY>
<AllowedItemMetadata Sync="TRUE">Basic</AllowedItemMetadata>
<DefaultResamplingMethod Sync="TRUE">1</DefaultResamplingMethod>
<AllowedMosaicMethods Sync="TRUE">NorthWest,Center,LockRaster,ByAttribute,Nadir,Viewpoint,Seamline,None</AllowedMosaicMethods>
<AllowedCompressions Sync="TRUE">None,JPEG,LZ77,LERC</AllowedCompressions>
<AllowedMensurationCapabilities Sync="TRUE">Basic</AllowedMensurationCapabilities>
<AvailableMensurationCapabilities Sync="TRUE">None,Basic,Base-Top Height,Top-Top Shadow Height,Base-Top Shadow Height,3D</AvailableMensurationCapabilities>
<ClipToBoundary Sync="TRUE">-1</ClipToBoundary>
<FootprintMayContainNoData Sync="TRUE">-1</FootprintMayContainNoData>
<CellSizeTolerance Sync="TRUE">0.8</CellSizeTolerance>
<MinimumPixelContribution Sync="TRUE">1</MinimumPixelContribution>
<AvailableMosaicMethods Sync="TRUE">NorthWest,Center,LockRaster,ByAttribute,Nadir,Viewpoint,Seamline,None</AvailableMosaicMethods>
<AvailableCompressionMethods Sync="TRUE">None,JPEG,LZ77,LERC</AvailableCompressionMethods>
<AvailableItemMetadataLevels Sync="TRUE">None,Basic,Full</AvailableItemMetadataLevels>
<BandDefinitionKeyword Sync="TRUE">NONE</BandDefinitionKeyword>
<AllowedFields Sync="TRUE">Name,MinPS,MaxPS,LowPS,HighPS,Tag,GroupName,ProductName,CenterX,CenterY,ZOrder,Shape.STArea(),Shape.STLength()</AllowedFields>
<MaxCellSize Sync="TRUE">1800</MaxCellSize>
<LowCellSize Sync="TRUE">0.25</LowCellSize>
<HighCellSize Sync="TRUE">36</HighCellSize>
<TimeStamp.RemoveItems Sync="TRUE">43507.8213199421</TimeStamp.RemoveItems>
<TimeStamp.UpdateExtent Sync="TRUE">43507.8255687847</TimeStamp.UpdateExtent>
<ApplyColorCorrection Sync="TRUE">0</ApplyColorCorrection>
</Properties>
<Functions Sync="TRUE">
<Function Description="Performs on-the-fly mosaic on a raster catalog." Name="Mosaic Function"/>
</Functions>
</RasterProperties>
</DataProperties>
<SyncDate>20210222</SyncDate>
<SyncTime>08422900</SyncTime>
<ModDate>20210222</ModDate>
<ModTime>08422900</ModTime>
</Esri>
<dataIdInfo>
<envirDesc Sync="TRUE"> Version 6.2 (Build 9200) ; Esri ArcGIS 10.6.1.9270</envirDesc>
<dataLang>
<languageCode Sync="TRUE" value="eng"/>
<countryCode Sync="TRUE" value="USA"/>
</dataLang>
<idCitation>
<resTitle Sync="TRUE">IMAGE_2011_Spring_3IN_KYSP</resTitle>
<presForm>
<PresFormCd Sync="TRUE" value="005"/>
</presForm>
</idCitation>
<spatRpType>
<SpatRepTypCd Sync="TRUE" value="002"/>
</spatRpType>
<dataExt>
<geoEle>
<GeoBndBox esriExtentType="search">
<exTypeCode Sync="TRUE">1</exTypeCode>
<westBL Sync="TRUE">-84.523684</westBL>
<eastBL Sync="TRUE">-84.485699</eastBL>
<northBL Sync="TRUE">38.047979</northBL>
<southBL Sync="TRUE">38.005940</southBL>
</GeoBndBox>
</geoEle>
</dataExt>
<idAbs/>
<searchKeys>
<keyword>Imagery</keyword>
</searchKeys>
<idPurp/>
<idCredit/>
<resConst>
<Consts>
<useLimit/>
</Consts>
</resConst>
</dataIdInfo>
<mdLang>
<languageCode Sync="TRUE" value="eng"/>
<countryCode Sync="TRUE" value="USA"/>
</mdLang>
<refSysInfo>
<RefSystem>
<refSysID>
<identCode Sync="TRUE" code="3089"/>
<idCodeSpace Sync="TRUE">EPSG</idCodeSpace>
<idVersion Sync="TRUE">6.6(9.2.0)</idVersion>
</refSysID>
</RefSystem>
</refSysInfo>
<spatRepInfo>
<Georect>
<cellGeo>
<CellGeoCd Sync="TRUE" value="002"/>
</cellGeo>
<numDims Sync="TRUE">2</numDims>
<tranParaAv Sync="TRUE">1</tranParaAv>
<chkPtAv Sync="TRUE">0</chkPtAv>
<cornerPts>
<pos Sync="TRUE">5274556.499996 3892319.500000</pos>
</cornerPts>
<cornerPts>
<pos Sync="TRUE">5274556.499996 3907485.500000</pos>
</cornerPts>
<cornerPts>
<pos Sync="TRUE">5285295.999996 3907485.500000</pos>
</cornerPts>
<cornerPts>
<pos Sync="TRUE">5285295.999996 3892319.500000</pos>
</cornerPts>
<centerPt>
<pos Sync="TRUE">5279926.249996 3899902.500000</pos>
</centerPt>
<axisDimension type="002">
<dimSize Sync="TRUE">42958</dimSize>
<dimResol>
<value Sync="TRUE" uom="ftUS">0.250000</value>
</dimResol>
</axisDimension>
<axisDimension type="001">
<dimSize Sync="TRUE">60664</dimSize>
<dimResol>
<value Sync="TRUE" uom="ftUS">0.250000</value>
</dimResol>
</axisDimension>
<ptInPixel>
<PixOrientCd Sync="TRUE" value="001"/>
</ptInPixel>
</Georect>
</spatRepInfo>
<contInfo>
<ImgDesc>
<contentTyp>
<ContentTypCd Sync="TRUE" value="001"/>
</contentTyp>
<covDim>
<Band>
<dimDescrp Sync="TRUE">Band_1</dimDescrp>
<maxVal Sync="TRUE">255.000000</maxVal>
<minVal Sync="TRUE">0.000000</minVal>
<bitsPerVal Sync="TRUE">8</bitsPerVal>
<valUnit>
<UOM type="length"/>
</valUnit>
</Band>
<Band>
<dimDescrp Sync="TRUE">Band_2</dimDescrp>
<maxVal Sync="TRUE">255.000000</maxVal>
<minVal Sync="TRUE">0.000000</minVal>
<bitsPerVal Sync="TRUE">8</bitsPerVal>
<valUnit>
<UOM type="length"/>
</valUnit>
</Band>
<Band>
<dimDescrp Sync="TRUE">Band_3</dimDescrp>
<maxVal Sync="TRUE">255.000000</maxVal>
<minVal Sync="TRUE">0.000000</minVal>
<bitsPerVal Sync="TRUE">8</bitsPerVal>
<valUnit>
<UOM type="length"/>
</valUnit>
</Band>
</covDim>
</ImgDesc>
</contInfo>
<mdDateSt Sync="TRUE">20210222</mdDateSt>
</metadata>
